Package: PhosR Version: 1.16.0 Command: F:\biocbuild\bbs-3.20-bioc\R\bin\R.exe CMD check --no-multiarch --install=check:PhosR.install-out.txt --library=F:\biocbuild\bbs-3.20-bioc\R\library --no-vignettes --timings PhosR_1.16.0.tar.gz StartedAt: 2025-04-01 04:34:20 -0400 (Tue, 01 Apr 2025) EndedAt: 2025-04-01 04:41:25 -0400 (Tue, 01 Apr 2025) EllapsedTime: 424.9 seconds RetCode: 0 Status: OK CheckDir: PhosR.Rcheck Warnings: 0