Package: PhosR Version: 1.16.0 Command: /Library/Frameworks/R.framework/Resources/bin/R CMD INSTALL PhosR StartedAt: 2025-03-31 18:10:38 -0400 (Mon, 31 Mar 2025) EndedAt: 2025-03-31 18:11:10 -0400 (Mon, 31 Mar 2025) EllapsedTime: 32.1 seconds RetCode: 0 Status: OK