Package: PhosR Version: 1.16.0 Command: /Library/Frameworks/R.framework/Resources/bin/R CMD check --install=check:PhosR.install-out.txt --library=/Library/Frameworks/R.framework/Resources/library --no-vignettes --timings PhosR_1.16.0.tar.gz StartedAt: 2025-04-02 04:12:13 -0400 (Wed, 02 Apr 2025) EndedAt: 2025-04-02 04:18:16 -0400 (Wed, 02 Apr 2025) EllapsedTime: 363.2 seconds RetCode: 0 Status: OK CheckDir: PhosR.Rcheck Warnings: 0