Package: PharmacoGx Version: 3.10.1 Command: F:\biocbuild\bbs-3.20-bioc\R\bin\R.exe CMD INSTALL PharmacoGx StartedAt: 2025-03-31 16:41:51 -0400 (Mon, 31 Mar 2025) EndedAt: 2025-03-31 16:43:47 -0400 (Mon, 31 Mar 2025) EllapsedTime: 116.2 seconds RetCode: 0 Status: OK