Package: PharmacoGx Version: 3.10.1 Command: F:\biocbuild\bbs-3.20-bioc\R\bin\R.exe CMD check --no-multiarch --install=check:PharmacoGx.install-out.txt --library=F:\biocbuild\bbs-3.20-bioc\R\library --no-vignettes --timings PharmacoGx_3.10.1.tar.gz StartedAt: 2025-01-28 04:34:10 -0500 (Tue, 28 Jan 2025) EndedAt: 2025-01-28 04:42:44 -0500 (Tue, 28 Jan 2025) EllapsedTime: 514.1 seconds RetCode: 0 Status: OK CheckDir: PharmacoGx.Rcheck Warnings: 0