Package: PhIPData Version: 1.14.0 Command: /Library/Frameworks/R.framework/Resources/bin/R CMD build --keep-empty-dirs --no-resave-data PhIPData StartedAt: 2025-02-11 05:28:30 -0500 (Tue, 11 Feb 2025) EndedAt: 2025-02-11 05:29:22 -0500 (Tue, 11 Feb 2025) EllapsedTime: 52.3 seconds RetCode: 0 Status: OK PackageFile: PhIPData_1.14.0.tar.gz PackageFileSize: 820.8 KiB