Package: PepsNMR Version: 1.24.0 Command: chmod a+r PepsNMR -R && F:\biocbuild\bbs-3.20-bioc\R\bin\R.exe CMD build --keep-empty-dirs --no-resave-data PepsNMR StartedAt: 2025-03-31 20:57:23 -0400 (Mon, 31 Mar 2025) EndedAt: 2025-03-31 21:03:56 -0400 (Mon, 31 Mar 2025) EllapsedTime: 392.5 seconds RetCode: 0 Status: OK PackageFile: PepsNMR_1.24.0.tar.gz PackageFileSize: 700 KiB