Package: PepsNMR Version: 1.24.0 Command: /Library/Frameworks/R.framework/Resources/bin/R CMD build --keep-empty-dirs --no-resave-data PepsNMR StartedAt: 2025-01-30 21:47:23 -0500 (Thu, 30 Jan 2025) EndedAt: 2025-01-30 21:55:58 -0500 (Thu, 30 Jan 2025) EllapsedTime: 515.1 seconds RetCode: 0 Status: OK PackageFile: PepsNMR_1.24.0.tar.gz PackageFileSize: 1.265 MiB