Package: PepSetTest Version: 1.0.0 Command: /home/biocbuild/R/R/bin/R CMD INSTALL PepSetTest StartedAt: 2025-01-30 20:16:22 -0000 (Thu, 30 Jan 2025) EndedAt: 2025-01-30 20:16:25 -0000 (Thu, 30 Jan 2025) EllapsedTime: 3.2 seconds RetCode: 0 Status: OK