Package: PepSetTest Version: 1.0.0 Command: /home/biocbuild/R/R/bin/R CMD check --install=check:PepSetTest.install-out.txt --library=/home/biocbuild/R/R/site-library --no-vignettes --timings PepSetTest_1.0.0.tar.gz StartedAt: 2025-04-01 09:21:28 -0000 (Tue, 01 Apr 2025) EndedAt: 2025-04-01 09:22:15 -0000 (Tue, 01 Apr 2025) EllapsedTime: 47.1 seconds RetCode: 0 Status: OK CheckDir: PepSetTest.Rcheck Warnings: 0