Package: PepSetTest Version: 1.0.0 Command: /home/biocbuild/R/R/bin/R CMD build --keep-empty-dirs --no-resave-data PepSetTest StartedAt: 2025-04-01 01:32:34 -0000 (Tue, 01 Apr 2025) EndedAt: 2025-04-01 01:33:00 -0000 (Tue, 01 Apr 2025) EllapsedTime: 26.0 seconds RetCode: 0 Status: OK PackageFile: PepSetTest_1.0.0.tar.gz PackageFileSize: 275 KiB