Package: PepSetTest Version: 1.0.0 Command: chmod a+r PepSetTest -R && F:\biocbuild\bbs-3.20-bioc\R\bin\R.exe CMD build --keep-empty-dirs --no-resave-data PepSetTest StartedAt: 2025-03-31 20:56:58 -0400 (Mon, 31 Mar 2025) EndedAt: 2025-03-31 20:57:25 -0400 (Mon, 31 Mar 2025) EllapsedTime: 27.5 seconds RetCode: 0 Status: OK PackageFile: PepSetTest_1.0.0.tar.gz PackageFileSize: 248.6 KiB