Package: PepSetTest Version: 1.0.0 Command: /Library/Frameworks/R.framework/Resources/bin/R CMD INSTALL PepSetTest StartedAt: 2025-03-31 15:16:05 -0400 (Mon, 31 Mar 2025) EndedAt: 2025-03-31 15:16:09 -0400 (Mon, 31 Mar 2025) EllapsedTime: 4.1 seconds RetCode: 0 Status: OK