Package: PepSetTest Version: 1.0.0 Command: rm -rf PepSetTest.buildbin-libdir && mkdir PepSetTest.buildbin-libdir && /Users/biocbuild/BBS/utils/build-universal.sh PepSetTest_1.0.0.tar.gz /Library/Frameworks/R.framework/Resources/bin/R PepSetTest.buildbin-libdir StartedAt: 2025-04-01 12:26:30 -0400 (Tue, 01 Apr 2025) EndedAt: 2025-04-01 12:26:36 -0400 (Tue, 01 Apr 2025) EllapsedTime: 5.6 seconds RetCode: 0 Status: OK PackageFile: PepSetTest_1.0.0.tgz PackageFileSize: 303.9 KiB