Package: Pedixplorer Version: 1.2.0 Command: chmod a+r Pedixplorer -R && F:\biocbuild\bbs-3.20-bioc\R\bin\R.exe CMD build --keep-empty-dirs --no-resave-data Pedixplorer StartedAt: 2025-01-30 20:53:41 -0500 (Thu, 30 Jan 2025) EndedAt: 2025-01-30 20:57:11 -0500 (Thu, 30 Jan 2025) EllapsedTime: 210.2 seconds RetCode: 0 Status: OK PackageFile: Pedixplorer_1.2.0.tar.gz PackageFileSize: 3.598 MiB