Package: Pedixplorer Version: 1.2.0 Command: /home/biocbuild/bbs-3.20-bioc/R/bin/R CMD INSTALL Pedixplorer StartedAt: 2025-01-30 15:34:26 -0500 (Thu, 30 Jan 2025) EndedAt: 2025-01-30 15:34:44 -0500 (Thu, 30 Jan 2025) EllapsedTime: 18.3 seconds RetCode: 0 Status: OK