Package: Pedixplorer Version: 1.2.0 Command: /Library/Frameworks/R.framework/Resources/bin/R CMD INSTALL Pedixplorer StartedAt: 2025-03-31 16:49:28 -0400 (Mon, 31 Mar 2025) EndedAt: 2025-03-31 16:49:47 -0400 (Mon, 31 Mar 2025) EllapsedTime: 18.8 seconds RetCode: 0 Status: OK