Package: PeacoQC Version: 1.16.0 Command: /home/biocbuild/bbs-3.20-bioc/R/bin/R CMD INSTALL PeacoQC StartedAt: 2024-11-19 16:18:24 -0500 (Tue, 19 Nov 2024) EndedAt: 2024-11-19 16:18:35 -0500 (Tue, 19 Nov 2024) EllapsedTime: 11.3 seconds RetCode: 0 Status: OK