Package: PeacoQC Version: 1.16.0 Command: /home/biocbuild/R/R/bin/R CMD check --install=check:PeacoQC.install-out.txt --library=/home/biocbuild/R/R/site-library --no-vignettes --timings PeacoQC_1.16.0.tar.gz StartedAt: 2025-01-31 09:03:33 -0000 (Fri, 31 Jan 2025) EndedAt: 2025-01-31 09:05:58 -0000 (Fri, 31 Jan 2025) EllapsedTime: 144.1 seconds RetCode: 0 Status: OK CheckDir: PeacoQC.Rcheck Warnings: 0