Package: PeacoQC Version: 1.16.0 Command: /home/biocbuild/bbs-3.20-bioc/R/bin/R CMD check --install=check:PeacoQC.install-out.txt --library=/home/biocbuild/bbs-3.20-bioc/R/site-library --timings PeacoQC_1.16.0.tar.gz StartedAt: 2025-04-01 00:52:36 -0400 (Tue, 01 Apr 2025) EndedAt: 2025-04-01 00:55:03 -0400 (Tue, 01 Apr 2025) EllapsedTime: 146.1 seconds RetCode: 0 Status: OK CheckDir: PeacoQC.Rcheck Warnings: 0