Package: PeacoQC Version: 1.16.0 Command: rm -rf PeacoQC.buildbin-libdir && mkdir PeacoQC.buildbin-libdir && /Users/biocbuild/BBS/utils/build-universal.sh PeacoQC_1.16.0.tar.gz /Library/Frameworks/R.framework/Resources/bin/R PeacoQC.buildbin-libdir StartedAt: 2025-01-29 15:53:14 -0500 (Wed, 29 Jan 2025) EndedAt: 2025-01-29 15:53:33 -0500 (Wed, 29 Jan 2025) EllapsedTime: 19.0 seconds RetCode: 0 Status: OK PackageFile: PeacoQC_1.16.0.tgz PackageFileSize: 1.597 MiB