Package: PathoStat Version: 1.32.0 Command: /home/biocbuild/bbs-3.20-bioc/R/bin/R CMD INSTALL PathoStat StartedAt: 2025-03-31 15:48:59 -0400 (Mon, 31 Mar 2025) EndedAt: 2025-03-31 15:49:33 -0400 (Mon, 31 Mar 2025) EllapsedTime: 34.3 seconds RetCode: 0 Status: OK