Package: PathoStat Version: 1.32.0 Command: /home/biocbuild/bbs-3.20-bioc/R/bin/R CMD check --install=check:PathoStat.install-out.txt --library=/home/biocbuild/bbs-3.20-bioc/R/site-library --timings PathoStat_1.32.0.tar.gz StartedAt: 2025-01-31 00:55:23 -0500 (Fri, 31 Jan 2025) EndedAt: 2025-01-31 01:00:08 -0500 (Fri, 31 Jan 2025) EllapsedTime: 285.3 seconds RetCode: 0 Status: OK CheckDir: PathoStat.Rcheck Warnings: 0