Package: PathoStat Version: 1.32.0 Command: /home/biocbuild/R/R/bin/R CMD build --keep-empty-dirs --no-resave-data PathoStat StartedAt: 2024-11-20 02:52:05 -0000 (Wed, 20 Nov 2024) EndedAt: 2024-11-20 02:52:56 -0000 (Wed, 20 Nov 2024) EllapsedTime: 51.1 seconds RetCode: 0 Status: OK PackageFile: PathoStat_1.32.0.tar.gz PackageFileSize: 948.4 KiB