Package: Path2PPI Version: 1.36.0 Command: chmod a+r Path2PPI -R && F:\biocbuild\bbs-3.20-bioc\R\bin\R.exe CMD build --keep-empty-dirs --no-resave-data Path2PPI StartedAt: 2025-01-27 20:55:46 -0500 (Mon, 27 Jan 2025) EndedAt: 2025-01-27 20:56:22 -0500 (Mon, 27 Jan 2025) EllapsedTime: 36.3 seconds RetCode: 0 Status: OK PackageFile: Path2PPI_1.36.0.tar.gz PackageFileSize: 1.239 MiB