Package: Path2PPI Version: 1.36.0 Command: /home/biocbuild/bbs-3.20-bioc/R/bin/R CMD build --keep-empty-dirs --no-resave-data --md5 Path2PPI StartedAt: 2025-01-27 19:25:49 -0500 (Mon, 27 Jan 2025) EndedAt: 2025-01-27 19:26:13 -0500 (Mon, 27 Jan 2025) EllapsedTime: 24.1 seconds RetCode: 0 Status: OK PackageFile: Path2PPI_1.36.0.tar.gz PackageFileSize: 1.393 MiB