Package: PanomiR Version: 1.10.0 Command: rm -rf PanomiR.buildbin-libdir && mkdir PanomiR.buildbin-libdir && F:\biocbuild\bbs-3.20-bioc\R\bin\R.exe CMD INSTALL --build --library=PanomiR.buildbin-libdir PanomiR_1.10.0.tar.gz StartedAt: 2025-02-04 09:08:28 -0500 (Tue, 04 Feb 2025) EndedAt: 2025-02-04 09:08:47 -0500 (Tue, 04 Feb 2025) EllapsedTime: 18.6 seconds RetCode: 0 Status: OK PackageFile: PanomiR_1.10.0.zip PackageFileSize: 2.07 MiB