Package: PanomiR Version: 1.10.0 Command: /Library/Frameworks/R.framework/Resources/bin/R CMD INSTALL PanomiR StartedAt: 2025-01-27 17:35:20 -0500 (Mon, 27 Jan 2025) EndedAt: 2025-01-27 17:35:24 -0500 (Mon, 27 Jan 2025) EllapsedTime: 4.6 seconds RetCode: 0 Status: OK