Package: PanomiR Version: 1.10.0 Command: /Library/Frameworks/R.framework/Resources/bin/R CMD check --install=check:PanomiR.install-out.txt --library=/Library/Frameworks/R.framework/Resources/library --no-vignettes --timings PanomiR_1.10.0.tar.gz StartedAt: 2025-01-29 03:59:36 -0500 (Wed, 29 Jan 2025) EndedAt: 2025-01-29 04:00:52 -0500 (Wed, 29 Jan 2025) EllapsedTime: 76.3 seconds RetCode: 0 Status: OK CheckDir: PanomiR.Rcheck Warnings: 0