Package: PanomiR Version: 1.10.0 Command: /Library/Frameworks/R.framework/Resources/bin/R CMD build --keep-empty-dirs --no-resave-data PanomiR StartedAt: 2025-04-01 04:53:55 -0400 (Tue, 01 Apr 2025) EndedAt: 2025-04-01 04:54:23 -0400 (Tue, 01 Apr 2025) EllapsedTime: 28.0 seconds RetCode: 0 Status: OK PackageFile: PanomiR_1.10.0.tar.gz PackageFileSize: 1.98 MiB