Package: PanViz Version: 1.8.0 Command: /Library/Frameworks/R.framework/Resources/bin/R CMD INSTALL PanViz StartedAt: 2025-03-31 15:23:21 -0400 (Mon, 31 Mar 2025) EndedAt: 2025-03-31 15:23:29 -0400 (Mon, 31 Mar 2025) EllapsedTime: 8.1 seconds RetCode: 0 Status: OK