Package: PanViz Version: 1.8.0 Command: /Library/Frameworks/R.framework/Resources/bin/R CMD build --keep-empty-dirs --no-resave-data PanViz StartedAt: 2025-01-31 05:09:31 -0500 (Fri, 31 Jan 2025) EndedAt: 2025-01-31 05:09:43 -0500 (Fri, 31 Jan 2025) EllapsedTime: 12.6 seconds RetCode: 1 Status: ERROR PackageFile: None PackageFileSize: NA