Package: PROcess Version: 1.82.0 Command: /home/biocbuild/R/R/bin/R CMD INSTALL PROcess StartedAt: 2025-03-31 20:52:04 -0000 (Mon, 31 Mar 2025) EndedAt: 2025-03-31 20:52:10 -0000 (Mon, 31 Mar 2025) EllapsedTime: 6.1 seconds RetCode: 0 Status: OK