Package: PROcess Version: 1.82.0 Command: /home/biocbuild/R/R/bin/R CMD build --keep-empty-dirs --no-resave-data PROcess StartedAt: 2025-01-28 02:27:37 -0000 (Tue, 28 Jan 2025) EndedAt: 2025-01-28 02:27:56 -0000 (Tue, 28 Jan 2025) EllapsedTime: 19.0 seconds RetCode: 0 Status: OK PackageFile: PROcess_1.82.0.tar.gz PackageFileSize: 1.992 MiB