Package: PROcess Version: 1.82.0 Command: chmod a+r PROcess -R && F:\biocbuild\bbs-3.20-bioc\R\bin\R.exe CMD build --keep-empty-dirs --no-resave-data PROcess StartedAt: 2025-01-27 21:11:07 -0500 (Mon, 27 Jan 2025) EndedAt: 2025-01-27 21:11:33 -0500 (Mon, 27 Jan 2025) EllapsedTime: 26.1 seconds RetCode: 0 Status: OK PackageFile: PROcess_1.82.0.tar.gz PackageFileSize: 1.912 MiB