Package: PROcess Version: 1.82.0 Command: /home/biocbuild/bbs-3.20-bioc/R/bin/R CMD build --keep-empty-dirs --no-resave-data --md5 PROcess StartedAt: 2025-02-03 18:47:13 -0500 (Mon, 03 Feb 2025) EndedAt: 2025-02-03 18:47:28 -0500 (Mon, 03 Feb 2025) EllapsedTime: 15.0 seconds RetCode: 0 Status: OK PackageFile: PROcess_1.82.0.tar.gz PackageFileSize: 2.001 MiB