Package: PROcess Version: 1.82.0 Command: /Library/Frameworks/R.framework/Resources/bin/R CMD INSTALL PROcess StartedAt: 2025-03-31 16:06:55 -0400 (Mon, 31 Mar 2025) EndedAt: 2025-03-31 16:07:06 -0400 (Mon, 31 Mar 2025) EllapsedTime: 11.0 seconds RetCode: 0 Status: OK