Package: PROcess Version: 1.82.0 Command: /Library/Frameworks/R.framework/Resources/bin/R CMD INSTALL PROcess StartedAt: 2025-03-31 17:07:06 -0400 (Mon, 31 Mar 2025) EndedAt: 2025-03-31 17:07:12 -0400 (Mon, 31 Mar 2025) EllapsedTime: 5.8 seconds RetCode: 0 Status: OK