Package: PROcess Version: 1.82.0 Command: /Library/Frameworks/R.framework/Resources/bin/R CMD check --install=check:PROcess.install-out.txt --library=/Library/Frameworks/R.framework/Resources/library --no-vignettes --timings PROcess_1.82.0.tar.gz StartedAt: 2025-04-02 04:42:01 -0400 (Wed, 02 Apr 2025) EndedAt: 2025-04-02 04:42:48 -0400 (Wed, 02 Apr 2025) EllapsedTime: 46.6 seconds RetCode: 0 Status: OK CheckDir: PROcess.Rcheck Warnings: 0