Package: PROcess Version: 1.82.0 Command: /Library/Frameworks/R.framework/Resources/bin/R CMD build --keep-empty-dirs --no-resave-data PROcess StartedAt: 2025-04-01 05:23:38 -0400 (Tue, 01 Apr 2025) EndedAt: 2025-04-01 05:24:03 -0400 (Tue, 01 Apr 2025) EllapsedTime: 25.1 seconds RetCode: 0 Status: OK PackageFile: PROcess_1.82.0.tar.gz PackageFileSize: 1.999 MiB