Package: PROPER Version: 1.38.0 Command: F:\biocbuild\bbs-3.20-bioc\R\bin\R.exe CMD INSTALL PROPER StartedAt: 2025-01-27 15:33:41 -0500 (Mon, 27 Jan 2025) EndedAt: 2025-01-27 15:33:53 -0500 (Mon, 27 Jan 2025) EllapsedTime: 12.2 seconds RetCode: 0 Status: OK