Package: PROPER Version: 1.38.0 Command: chmod a+r PROPER -R && F:\biocbuild\bbs-3.20-bioc\R\bin\R.exe CMD build --keep-empty-dirs --no-resave-data PROPER StartedAt: 2025-03-31 21:09:43 -0400 (Mon, 31 Mar 2025) EndedAt: 2025-03-31 21:10:02 -0400 (Mon, 31 Mar 2025) EllapsedTime: 19.2 seconds RetCode: 0 Status: OK PackageFile: PROPER_1.38.0.tar.gz PackageFileSize: 1.801 MiB