Package: PROPER Version: 1.38.0 Command: rm -rf PROPER.buildbin-libdir && mkdir PROPER.buildbin-libdir && F:\biocbuild\bbs-3.20-bioc\R\bin\R.exe CMD INSTALL --build --library=PROPER.buildbin-libdir PROPER_1.38.0.tar.gz StartedAt: 2025-04-01 08:55:08 -0400 (Tue, 01 Apr 2025) EndedAt: 2025-04-01 08:55:22 -0400 (Tue, 01 Apr 2025) EllapsedTime: 13.7 seconds RetCode: 0 Status: OK PackageFile: PROPER_1.38.0.zip PackageFileSize: 1.577 MiB