Package: PROPER Version: 1.38.0 Command: rm -rf PROPER.buildbin-libdir && mkdir PROPER.buildbin-libdir && /Users/biocbuild/BBS/utils/build-universal.sh PROPER_1.38.0.tar.gz /Library/Frameworks/R.framework/Resources/bin/R PROPER.buildbin-libdir StartedAt: 2025-01-28 14:10:28 -0500 (Tue, 28 Jan 2025) EndedAt: 2025-01-28 14:10:46 -0500 (Tue, 28 Jan 2025) EllapsedTime: 18.0 seconds RetCode: 0 Status: OK PackageFile: PROPER_1.38.0.tgz PackageFileSize: 1.573 MiB