Package: PROPER Version: 1.38.0 Command: /Library/Frameworks/R.framework/Resources/bin/R CMD check --install=check:PROPER.install-out.txt --library=/Library/Frameworks/R.framework/Resources/library --no-vignettes --timings PROPER_1.38.0.tar.gz StartedAt: 2024-11-20 01:23:44 -0500 (Wed, 20 Nov 2024) EndedAt: 2024-11-20 01:28:11 -0500 (Wed, 20 Nov 2024) EllapsedTime: 267.1 seconds RetCode: 0 Status: WARNINGS CheckDir: PROPER.Rcheck Warnings: 2