Package: PRONE Version: 1.0.2 Command: /home/biocbuild/R/R/bin/R CMD INSTALL PRONE StartedAt: 2025-01-27 21:54:33 -0000 (Mon, 27 Jan 2025) EndedAt: 2025-01-27 21:55:21 -0000 (Mon, 27 Jan 2025) EllapsedTime: 47.7 seconds RetCode: 0 Status: OK