Package: PRONE Version: 1.0.2 Command: /home/biocbuild/R/R/bin/R CMD check --install=check:PRONE.install-out.txt --library=/home/biocbuild/R/R/site-library --no-vignettes --timings PRONE_1.0.2.tar.gz StartedAt: 2025-01-28 10:11:42 -0000 (Tue, 28 Jan 2025) EndedAt: 2025-01-28 10:18:07 -0000 (Tue, 28 Jan 2025) EllapsedTime: 385.3 seconds RetCode: 0 Status: OK CheckDir: PRONE.Rcheck Warnings: 0