Package: PRONE Version: 1.0.2 Command: /home/biocbuild/R/R/bin/R CMD build --keep-empty-dirs --no-resave-data PRONE StartedAt: 2025-01-28 02:28:36 -0000 (Tue, 28 Jan 2025) EndedAt: 2025-01-28 02:31:19 -0000 (Tue, 28 Jan 2025) EllapsedTime: 163.1 seconds RetCode: 0 Status: OK PackageFile: PRONE_1.0.2.tar.gz PackageFileSize: 6.759 MiB