Package: PRONE Version: 1.0.2 Maintainer: Lis Arend MaintainerEmail: lis.arend at tum.de git_url: https://git.bioconductor.org/packages/PRONE git_branch: RELEASE_3_20 git_last_commit: b30d6ab git_last_commit_date: 2025-01-23 11:38:54 -0500 (Thu, 23 Jan 2025)