Package: PROMISE Version: 1.58.0 Command: /Library/Frameworks/R.framework/Resources/bin/R CMD INSTALL PROMISE StartedAt: 2025-01-27 15:37:18 -0500 (Mon, 27 Jan 2025) EndedAt: 2025-01-27 15:37:50 -0500 (Mon, 27 Jan 2025) EllapsedTime: 32.3 seconds RetCode: 0 Status: OK